BEGIN:VCALENDAR
VERSION:2.0
PRODID:-//e4ds.com//webinar//EN
BEGIN:VEVENT
UID:20260414T013000Z15680
SUMMARY:[e4ds webinar] Power Grid 안정화를 위한 ADI 솔루션 웨비나
DTSTART:20260414T013000Z
DTEND:20260414T030000Z
DESCRIPTION:https://www.e4ds.com/webinar_detail.asp?idx=990
END:VEVENT
END:VCALENDAR